Workbook

Sheet Forside
B1: Budsjetteringsmaler Universitetet i Oslo
B2: Velg type mal i nedtrekksmenyene under og faner vises automatisk
B3: Kategorisering
B4: Oppdrag
B6: Søknadstype - oppdrag
B7: Konferansebudsjett
B9: Søknadstype - bidrag
B10: Ordinære NFR prosjekter
A40: 45686

Sheet Registrering
A2: Konferanseinformasjon:
A3: Navn på konferansen
A4: Ansvarlig for konferansen
A5: BDM for konferansen
A6: Koststed for konferansen
A7: Kort begrunnelse for prosjektes faglige interesse* (Manglende eller dårlig begrunnelse vil kunne medføre avvist prosjektoppretting)
A12: Kort begrunnelse for kategorisering (bidrag/oppdrag)* (Manglende eller dårlig begrunnelse vil kunne medføre avvist prosjektoppretting)
A17: Prosjektnummer (om opprettet)
A18: Saksnummer i ephorte (om opprettet)
A19: Prosjektperiode
A20: Prosjektstart (dd.mm.år)
A21: Prosjektets (avtaleperioden) start*
... A27: Prosjektkategorisering (Oppdrag eller Bidrag)*
A28: Finansieringstype* | H28: Legg inn prosentsats
A29: Prosjekttype (overheadkostnader)*
A30: Rebudsjettering
A31: Beskrivelse av endringer
A36: Fra når gjelder rebudsjetteringene
A37: Ny sluttdato
A38: Oppdrag/Salg
A39: Påslag uforutsette hendelser (%)
A40: Påslag fortjeneste (%) | B40: 0.1
A41: Merverdiavgift | B41: 0.25
A42: Hvis ikke merverdiavgift, angi årsak
A44: Konferanser
A45: Antall betalende deltakere
A46: Antall deltakere hvor UiO har utlegg på vegne av disse (f.eks overnatting, lunch, gallamiddag, eskursjoner o.l.)
A47: Eventuelle offentlig tilskudd til gjennomføring (F.eks fra NFR)
A48: Sponsorinntekter (fakturert ink. Mva)
A49: Påslag for indirekte kostnader | B49: 0.4
B50: Vitenskapelig | E50: Teknisk/administrativ
B51: =IF(B29="",0,VLOOKUP(B29,Tabeller!$G$8:$J$13,2,FALSE)) -> 0 | E51: =IF(B29="",0,VLOOKUP(B29,Tabeller!$G$8:$J$13,3,FALSE)) -> 0
A52: Pris- lønnsjustering
A53: Årlig lønnsjustering i hele prosjektperioden | B53: Ja
B54: År 1 | E54: År 2 | J54: Videre
B55: 0 | E55: =Tabeller!L32 -> 0.035 | J55: 0.035

Sheet Budsjett
A1: Alle beløp er angitt i hele kroner | C1: Prosjekttittel: | D1: =Registrering!B3 -> 0 | AR1: LØNNS- OG DRIFTSKOSTNADER | AX1: =AR4*K96 -> 0 | BF1: OVERHEADKOSTNADER | BU1: Eksternt finansiert overhead | CJ1: Internt finansiert overhead | CY1: Ekstern finansiering | DO1: NFR | EE1: Private | EU1: Internasjonale | FK1: Offentlige | GB1: Egenandel | GS1: Overhead i henhold til TDI
C2: =C8+C14 -> -514469.49 | D2: =D8+D14 -> 435848.41 | E2: =C2+D2 -> -78621.082 | F2: =E2/D2 -> -0.1803863 | K2: REGISTRER MÅNEDSVERK
B3: Prosjektansatte | C3: Inntekter | D3: Lønn og sos. kostn. | E3: Overhead | F3: Totalt | G3: Årsv | H3: Finansiør | I3: Årslønn | J3: Navn | K3: =Tabeller!D1 -> 1 | L3: =K3+1 -> 2 | M3: =L3+1 -> 3 | N3: =M3+1 -> 4 | O3: =N3+1 -> 5 | P3: =O3+1 -> 6 | Q3: =P3+1 -> 7 | R3: =Q3+1 -> 8 | S3: =R3+1 -> 9 | ... W3: =V3+1 -> 13 | AG3: Bruttolønn | AH3: inkl lønnsv. | AI3: Lønn | AJ3: Feriep | AK3: AGA | AL3: Pensjon | AM3: inkl sos.avg. | AN3: inkl. ind.kost. | AO3: Timesats | AR3: =K3 -> 1 | AS3: =L3 -> 2 | AT3: =M3 -> 3 | AU3: =N3 -> 4 | AV3: =O3 -> 5 | AW3: =P3 -> 6 | AX3: =Q3 -> 7 | AY3: =R3 -> 8 | ... BD3: =W3 -> 13 | BF3: =AR3 -> 1 | BG3: =AS3 -> 2 | BH3: =AT3 -> 3 | BI3: =AU3 -> 4 | BJ3: =AV3 -> 5 | BK3: =AW3 -> 6 | BL3: =AX3 -> 7 | BM3: =AY3 -> 8 | ... BR3: =BD3 -> 13 | BU3: =BF3 -> 1 | BV3: =BG3 -> 2 | BW3: =BH3 -> 3 | BX3: =BI3 -> 4 | BY3: =BJ3 -> 5 | BZ3: =BK3 -> 6 | CA3: =BL3 -> 7 | CB3: =BM3 -> 8 | ... CG3: =BR3 -> 13 | CJ3: =CY3 -> 1 | CK3: =CZ3 -> 2 | CL3: =DA3 -> 3 | CM3: =DB3 -> 4 | CN3: =DC3 -> 5 | CO3: =DD3 -> 6 | CP3: =DE3 -> 7 | CQ3: =DF3 -> 8 | ... CV3: =DK3 -> 13 | CY3: =BU3 -> 1 | CZ3: =BV3 -> 2 | DA3: =BW3 -> 3 | DB3: =BX3 -> 4 | DC3: =BY3 -> 5 | DD3: =BZ3 -> 6 | DE3: =CA3 -> 7 | DF3: =CB3 -> 8 | ... DK3: =CG3 -> 13 | DL3: Totalt | DP3: =BU3 -> 1 | DQ3: =BV3 -> 2 | DR3: =BW3 -> 3 | DS3: =BX3 -> 4 | DT3: =BY3 -> 5 | DU3: =BZ3 -> 6 | DV3: =CA3 -> 7 | DW3: =CB3 -> 8 | ... EB3: =CG3 -> 13 | EC3: Totalt | EF3: =CJ3 -> 1 | EG3: =CK3 -> 2 | EH3: =CL3 -> 3 | EI3: =CM3 -> 4 | EJ3: =CN3 -> 5 | EK3: =CO3 -> 6 | EL3: =CP3 -> 7 | EM3: =CQ3 -> 8 | ... ER3: =CV3 -> 13 | ES3: Totalt | EV3: =CY3 -> 1 | EW3: =CZ3 -> 2 | EX3: =DA3 -> 3 | EY3: =DB3 -> 4 | EZ3: =DC3 -> 5 | FA3: =DD3 -> 6 | FB3: =DE3 -> 7 | FC3: =DF3 -> 8 | ... FI3: =DL3 -> Totalt | FL3: =DP3 -> 1 | FM3: =DQ3 -> 2 | FN3: =DR3 -> 3 | FO3: =DS3 -> 4 | FP3: =DT3 -> 5 | FQ3: =DU3 -> 6 | FR3: =DV3 -> 7 | FS3: =DW3 -> 8 | ... FY3: =EC3 -> Totalt | GC3: =EF3 -> 1 | GD3: =EG3 -> 2 | GE3: =EH3 -> 3 | GF3: =EI3 -> 4 | GG3: =EJ3 -> 5 | GH3: =EK3 -> 6 | GI3: =EL3 -> 7 | GJ3: =EM3 -> 8 | ... GP3: =ES3 -> Totalt | GS3: =AR3 -> 1 | GT3: =AS3 -> 2 | GU3: =AT3 -> 3 | GV3: =AU3 -> 4 | GW3: =AV3 -> 5 | GX3: =AW3 -> 6 | GY3: =AX3 -> 7 | GZ3: =AY3 -> 8 | ... HE3: =BD3 -> 13
C4: =IF(Registrering!$B$28="Fast beløp",0,IF(Registrering!$B$28="Sats for ekst. fin. overhead",0,DL4)) -> 0 | D4: =SUM(AR4:BD4) -> 0 | E4: =IFERROR(SUM(BF4:BR4),0) -> 0 | F4: =SUM(D4:E4) -> 0 | G4: =SUM(K4:W4)/12 -> 0 | AG4: =I4 -> 0 | AH4: =AG4*Tabeller!$I$35 -> 0 | AI4: =IF(AG4>0,(AH4-400)/52*47,0) -> 0 | AJ4: =AI4*Tabeller!$H$26 -> 0 | AK4: =SUM(AI4:AJ4,AL4)*Tabeller!$H$27 -> 0 | AL4: =AH4*Tabeller!$H$28 -> 0 | AM4: =SUM(AI4:AL4) -> 0 | AN4: =AM4+(IF(B4="Teknisk adm bistand",Registrering!$E$51,Registrering!$B$51)) -> 0 | AO4: =AN4/Tabeller!$H$5 -> 0 | AR4: =((K4*Budsjett!$AM4))/12 -> 0 | AS4: =((L4*Budsjett!$AM4)*(Tabeller!J$35))/12 -> 0 | AT4: =((M4*Budsjett!$AM4)*(Tabeller!K$35))/12 -> 0 | AU4: =((N4*Budsjett!$AM4)*(Tabeller!L$35))/12 -> 0 | AV4: =((O4*Budsjett!$AM4)*(Tabeller!M$35))/12 -> 0 | AW4: =((P4*Budsjett!$AM4)*(Tabeller!N$35))/12 -> 0 | AX4: =((Q4*Budsjett!$AM4)*(Tabeller!O$35))/12 -> 0 | AY4: =((R4*Budsjett!$AM4)*(Tabeller!P$35))/12 -> 0 | AZ4: =((S4*Budsjett!$AM4)*(Tabeller!Q$35))/12 -> 0 | ... BD4: =((W4*Budsjett!$AM4)*(Tabeller!U$35))/12 -> 0 | BF4: =IFERROR(IF($E$83>$E$82,BU4,GS4),0) -> 0 | BG4: =IFERROR(IF($E$83>$E$82,BV4,GT4),0) -> 0 | BH4: =IFERROR(IF($E$83>$E$82,BW4,GU4),0) -> 0 | BI4: =IFERROR(IF($E$83>$E$82,BX4,GV4),0) -> 0 | BJ4: =IFERROR(IF($E$83>$E$82,BY4,GW4),0) -> 0 | BK4: =IFERROR(IF($E$83>$E$82,BZ4,GX4),0) -> 0 | BL4: =IFERROR(IF($E$83>$E$82,CA4,GY4),0) -> 0 | BM4: =IFERROR(IF($E$83>$E$82,CB4,GZ4),0) -> 0 | ... BR4: =IFERROR(IF($E$83>$E$82,CG4,HE4),0) -> 0 | BU4: =IFERROR(IF($E$85=$E$84,AR4*$E$85,AR4*Budsjett!$E$84),0) -> 0 | BV4: =IFERROR(IF($E$85=$E$84,AS4*$E$85,AS4*Budsjett!$E$84),0) -> 0 | BW4: =IFERROR(IF($E$85=$E$84,AT4*$E$85,AT4*Budsjett!$E$84),0) -> 0 | BX4: =IFERROR(IF($E$85=$E$84,AU4*$E$85,AU4*Budsjett!$E$84),0) -> 0 | BY4: =IFERROR(IF($E$85=$E$84,AV4*$E$85,AV4*Budsjett!$E$84),0) -> 0 | BZ4: =IFERROR(IF($E$85=$E$84,AW4*$E$85,AW4*Budsjett!$E$84),0) -> 0 | CA4: =IFERROR(IF($E$85=$E$84,AX4*$E$85,AX4*Budsjett!$E$84),0) -> 0 | CB4: =IFERROR(IF($E$85=$E$84,AY4*$E$85,AY4*Budsjett!$E$84),0) -> 0 | ... CG4: =IFERROR(IF($E$85=$E$84,BD4*$E$85,BD4*Budsjett!$E$84),0) -> 0 | CJ4: =BF4-BU4 -> 0 | CK4: =BG4-BV4 -> 0 | CL4: =BH4-BW4 -> 0 | CM4: =BI4-BX4 -> 0 | CN4: =BJ4-BY4 -> 0 | CO4: =BK4-BZ4 -> 0 | CP4: =BL4-CA4 -> 0 | CQ4: =BM4-CB4 -> 0 | ... CV4: =BR4-CG4 -> 0 | CX4: =B4 -> 0 | CY4: =-((IF($CX4="Teknisk/adm. bistand/Feltassistent",IF(Budsjett!AR4*(1+Tabeller!$I$62)>Tabeller!I$55,Tabeller!I$55,Budsjett!AR4*(1+Tabeller!$I$62)),0)+(IF($CX4="Forsker - professor",Tabeller!I$55*K4,0)+IF($CX4="Prosjektleder/adm.leder",Tabeller!I$54*K4,0)+IF($CX4="Forsker - 1.aman.",Tabeller!I$56*K4,0)+IF($CX4="Gjesteforsker",Tabeller!I$58*K4,0)+IF($CX4="Postdoktor / forsker",Tabeller!I$59*K4,0)+IF($CX4="Stipendiat",Tabeller!I$60*K4,0)+IF($CX4="Forsker (rundsum)",Tabeller!I$57*K4,0)+IF($CX4="Vit.ass",Tabeller!I$61*K4,0))/12)) -> 0 | CZ4: =-((IF($CX4="Teknisk/adm. bistand/Feltassistent",IF(Budsjett!AS4*(1+Tabeller!$I$62)>Tabeller!J$55,Tabeller!J$55,Budsjett!AS4*(1+Tabeller!$I$62)),0)+(IF($CX4="Forsker - professor",Tabeller!J$55*L4,0)+IF($CX4="Prosjektleder/adm.leder",Tabeller!J$54*L4,0)+IF($CX4="Forsker - 1.aman.",Tabeller!J$56*L4,0)+IF($CX4="Gjesteforsker",Tabeller!J$58*L4,0)+IF($CX4="Postdoktor / forsker",Tabeller!J$59*L4,0)+IF($CX4="Stipendiat",Tabeller!J$60*L4,0)+IF($CX4="Forsker (rundsum)",Tabeller!J$57*L4,0)+IF($CX4="Vit.ass",Tabeller!J$61*L4,0))/12)) -> 0 | DA4: =-((IF($CX4="Teknisk/adm. bistand/Feltassistent",IF(Budsjett!AT4*(1+Tabeller!$I$62)>Tabeller!K$55,Tabeller!K$55,Budsjett!AT4*(1+Tabeller!$I$62)),0)+(IF($CX4="Forsker - professor",Tabeller!K$55*M4,0)+IF($CX4="Prosjektleder/adm.leder",Tabeller!K$54*M4,0)+IF($CX4="Forsker - 1.aman.",Tabeller!K$56*M4,0)+IF($CX4="Gjesteforsker",Tabeller!K$58*M4,0)+IF($CX4="Postdoktor / forsker",Tabeller!K$59*M4,0)+IF($CX4="Stipendiat",Tabeller!K$60*M4,0)+IF($CX4="Forsker (rundsum)",Tabeller!K$57*M4,0)+IF($CX4="Vit.ass",Tabeller!K$61*M4,0))/12)) -> 0 | DB4: =-((IF($CX4="Teknisk/adm. bistand/Feltassistent",IF(Budsjett!AU4*(1+Tabeller!$I$62)>Tabeller!L$55,Tabeller!L$55,Budsjett!AU4*(1+Tabeller!$I$62)),0)+(IF($CX4="Forsker - professor",Tabeller!L$55*N4,0)+IF($CX4="Prosjektleder/adm.leder",Tabeller!L$54*N4,0)+IF($CX4="Forsker - 1.aman.",Tabeller!L$56*N4,0)+IF($CX4="Gjesteforsker",Tabeller!L$58*N4,0)+IF($CX4="Postdoktor / forsker",Tabeller!L$59*N4,0)+IF($CX4="Stipendiat",Tabeller!L$60*N4,0)+IF($CX4="Forsker (rundsum)",Tabeller!L$57*N4,0)+IF($CX4="Vit.ass",Tabeller!L$61*N4,0))/12)) -> 0 | DC4: =-((IF($CX4="Teknisk/adm. bistand/Feltassistent",IF(Budsjett!AV4*(1+Tabeller!$I$62)>Tabeller!M$55,Tabeller!M$55,Budsjett!AV4*(1+Tabeller!$I$62)),0)+(IF($CX4="Forsker - professor",Tabeller!M$55*O4,0)+IF($CX4="Prosjektleder/adm.leder",Tabeller!M$54*O4,0)+IF($CX4="Forsker - 1.aman.",Tabeller!M$56*O4,0)+IF($CX4="Gjesteforsker",Tabeller!M$58*O4,0)+IF($CX4="Postdoktor / forsker",Tabeller!M$59*O4,0)+IF($CX4="Stipendiat",Tabeller!M$60*O4,0)+IF($CX4="Forsker (rundsum)",Tabeller!M$57*O4,0)+IF($CX4="Vit.ass",Tabeller!M$61*O4,0))/12)) -> 0 | DD4: =-((IF($CX4="Teknisk/adm. bistand/Feltassistent",IF(Budsjett!AW4*(1+Tabeller!$I$62)>Tabeller!N$55,Tabeller!N$55,Budsjett!AW4*(1+Tabeller!$I$62)),0)+(IF($CX4="Forsker - professor",Tabeller!N$55*P4,0)+IF($CX4="Prosjektleder/adm.leder",Tabeller!N$54*P4,0)+IF($CX4="Forsker - 1.aman.",Tabeller!N$56*P4,0)+IF($CX4="Gjesteforsker",Tabeller!N$58*P4,0)+IF($CX4="Postdoktor / forsker",Tabeller!N$59*P4,0)+IF($CX4="Stipendiat",Tabeller!N$60*P4,0)+IF($CX4="Forsker (rundsum)",Tabeller!N$57*P4,0)+IF($CX4="Vit.ass",Tabeller!N$61*P4,0))/12)) -> 0 | DE4: =-((IF($CX4="Teknisk/adm. bistand/Feltassistent",IF(Budsjett!AX4*(1+Tabeller!$I$62)>Tabeller!O$55,Tabeller!O$55,Budsjett!AX4*(1+Tabeller!$I$62)),0)+(IF($CX4="Forsker - professor",Tabeller!O$55*Q4,0)+IF($CX4="Prosjektleder/adm.leder",Tabeller!O$54*Q4,0)+IF($CX4="Forsker - 1.aman.",Tabeller!O$56*Q4,0)+IF($CX4="Gjesteforsker",Tabeller!O$58*Q4,0)+IF($CX4="Postdoktor / forsker",Tabeller!O$59*Q4,0)+IF($CX4="Stipendiat",Tabeller!O$60*Q4,0)+IF($CX4="Forsker (rundsum)",Tabeller!O$57*Q4,0)+IF($CX4="Vit.ass",Tabeller!O$61*Q4,0))/12)) -> 0 | DF4: =-((IF($CX4="Teknisk/adm. bistand/Feltassistent",IF(Budsjett!AY4*(1+Tabeller!$I$62)>Tabeller!P$55,Tabeller!P$55,Budsjett!AY4*(1+Tabeller!$I$62)),0)+(IF($CX4="Forsker - professor",Tabeller!P$55*R4,0)+IF($CX4="Prosjektleder/adm.leder",Tabeller!P$54*R4,0)+IF($CX4="Forsker - 1.aman.",Tabeller!P$56*R4,0)+IF($CX4="Gjesteforsker",Tabeller!P$58*R4,0)+IF($CX4="Postdoktor / forsker",Tabeller!P$59*R4,0)+IF($CX4="Stipendiat",Tabeller!P$60*R4,0)+IF($CX4="Forsker (rundsum)",Tabeller!P$57*R4,0)+IF($CX4="Vit.ass",Tabeller!P$61*R4,0))/12)) -> 0 | ... DK4: =-((IF($CX4="Teknisk/adm. bistand/Feltassistent",IF(Budsjett!BD4*(1+Tabeller!$I$62)>Tabeller!U$55,Tabeller!U$55,Budsjett!BD4*(1+Tabeller!$I$62)),0)+(IF($CX4="Forsker - professor",Tabeller!U$55*W4,0)+IF($CX4="Prosjektleder/adm.leder",Tabeller!U$54*W4,0)+IF($CX4="Forsker - 1.aman.",Tabeller!U$56*W4,0)+IF($CX4="Gjesteforsker",Tabeller!U$58*W4,0)+IF($CX4="Postdoktor / forsker",Tabeller!U$59*W4,0)+IF($CX4="Stipendiat",Tabeller!U$60*W4,0)+IF($CX4="Forsker (rundsum)",Tabeller!U$57*W4,0)+IF($CX4="Vit.ass",Tabeller!U$61*W4,0))/12)) -> 0 | DL4: =SUM(CY4:DK4) -> 0 | DO4: =CX4 -> 0 | DP4: =IF($H4="NFR",CY4,0) -> 0 | DQ4: =IF($H4="NFR",CZ4,0) -> 0 | DR4: =IF($H4="NFR",DA4,0) -> 0 | DS4: =IF($H4="NFR",DB4,0) -> 0 | DT4: =IF($H4="NFR",DC4,0) -> 0 | DU4: =IF($H4="NFR",DD4,0) -> 0 | DV4: =IF($H4="NFR",DE4,0) -> 0 | DW4: =IF($H4="NFR",DF4,0) -> 0 | ... EB4: =IF($H4="NFR",DK4,0) -> 0 | EC4: =SUM(DP4:EB4) -> 0 | EE4: =DO4 -> 0 | EF4: =IF($H4=$EE$1,CY4,0) -> 0 | EG4: =IF($H4=$EE$1,CZ4,0) -> 0 | EH4: =IF($H4=$EE$1,DA4,0) -> 0 | EI4: =IF($H4=$EE$1,DB4,0) -> 0 | EJ4: =IF($H4=$EE$1,DC4,0) -> 0 | EK4: =IF($H4=$EE$1,DD4,0) -> 0 | EL4: =IF($H4=$EE$1,DE4,0) -> 0 | EM4: =IF($H4=$EE$1,DF4,0) -> 0 | ... ER4: =IF($H4=$EE$1,DK4,0) -> 0 | ES4: =SUM(EF4:ER4) -> 0 | EU4: =EE4 -> 0 | EV4: =IF($H4=$EU$1,CY4,0) -> 0 | EW4: =IF($H4=$EU$1,CZ4,0) -> 0 | EX4: =IF($H4=$EU$1,DA4,0) -> 0 | EY4: =IF($H4=$EU$1,DB4,0) -> 0 | EZ4: =IF($H4=$EU$1,DC4,0) -> 0 | FA4: =IF($H4=$EU$1,DD4,0) -> 0 | FB4: =IF($H4=$EU$1,DE4,0) -> 0 | FC4: =IF($H4=$EU$1,DF4,0) -> 0 | ... FH4: =IF($H4=$EU$1,DK4,0) -> 0 | FI4: =SUM(EV4:FH4) -> 0 | FK4: =EU4 -> 0 | FL4: =IF($H4=$FK$1,CY4,0) -> 0 | FM4: =IF($H4=$FK$1,CZ4,0) -> 0 | FN4: =IF($H4=$FK$1,DA4,0) -> 0 | FO4: =IF($H4=$FK$1,DB4,0) -> 0 | FP4: =IF($H4=$FK$1,DC4,0) -> 0 | FQ4: =IF($H4=$FK$1,DD4,0) -> 0 | FR4: =IF($H4=$FK$1,DE4,0) -> 0 | FS4: =IF($H4=$FK$1,DF4,0) -> 0 | ... FX4: =IF($H4=$FK$1,DK4,0) -> 0 | FY4: =SUM(FL4:FX4) -> 0 | GB4: =FK4 -> 0 | GP4: =SUM(GC4:GO4) -> 0 | GS4: =IF(Registrering!$B$29="Prosjekter som foregår i UiOs lokaler",IF($B4="Teknisk/adm. bistand/Feltassistent",(K4/12)*Tabeller!J$11,(K4/12)*Tabeller!J$10),IF($B4="Teknisk/adm. bistand/Feltassistent",(K4/12)*Tabeller!J$13,(K4/12)*Tabeller!J$12)) -> 0 | GT4: =IF(Registrering!$B$29="Prosjekter som foregår i UiOs lokaler",IF($B4="Teknisk/adm. bistand/Feltassistent",(L4/12)*Tabeller!K$11,(L4/12)*Tabeller!K$10),IF($B4="Teknisk/adm. bistand/Feltassistent",(L4/12)*Tabeller!K$13,(L4/12)*Tabeller!K$12)) -> 0 | GU4: =IF(Registrering!$B$29="Prosjekter som foregår i UiOs lokaler",IF($B4="Teknisk/adm. bistand/Feltassistent",(M4/12)*Tabeller!L$11,(M4/12)*Tabeller!L$10),IF($B4="Teknisk/adm. bistand/Feltassistent",(M4/12)*Tabeller!L$13,(M4/12)*Tabeller!L$12)) -> 0 | GV4: =IF(Registrering!$B$29="Prosjekter som foregår i UiOs lokaler",IF($B4="Teknisk/adm. bistand/Feltassistent",(N4/12)*Tabeller!M$11,(N4/12)*Tabeller!M$10),IF($B4="Teknisk/adm. bistand/Feltassistent",(N4/12)*Tabeller!M$13,(N4/12)*Tabeller!M$12)) -> 0 | GW4: =IF(Registrering!$B$29="Prosjekter som foregår i UiOs lokaler",IF($B4="Teknisk/adm. bistand/Feltassistent",(O4/12)*Tabeller!N$11,(O4/12)*Tabeller!N$10),IF($B4="Teknisk/adm. bistand/Feltassistent",(O4/12)*Tabeller!N$13,(O4/12)*Tabeller!N$12)) -> 0 | GX4: =IF(Registrering!$B$29="Prosjekter som foregår i UiOs lokaler",IF($B4="Teknisk/adm. bistand/Feltassistent",(P4/12)*Tabeller!O$11,(P4/12)*Tabeller!O$10),IF($B4="Teknisk/adm. bistand/Feltassistent",(P4/12)*Tabeller!O$13,(P4/12)*Tabeller!O$12)) -> 0 | GY4: =IF(Registrering!$B$29="Prosjekter som foregår i UiOs lokaler",IF($B4="Teknisk/adm. bistand/Feltassistent",(Q4/12)*Tabeller!P$11,(Q4/12)*Tabeller!P$10),IF($B4="Teknisk/adm. bistand/Feltassistent",(Q4/12)*Tabeller!P$13,(Q4/12)*Tabeller!P$12)) -> 0 | GZ4: =IF(Registrering!$B$29="Prosjekter som foregår i UiOs lokaler",IF($B4="Teknisk/adm. bistand/Feltassistent",(R4/12)*Tabeller!Q$11,(R4/12)*Tabeller!Q$10),IF($B4="Teknisk/adm. bistand/Feltassistent",(R4/12)*Tabeller!Q$13,(R4/12)*Tabeller!Q$12)) -> 0 | ... HE4: =IF(Registrering!$B$29="Prosjekter som foregår i UiOs lokaler",IF($B4="Teknisk/adm. bistand/Feltassistent",(W4/12)*Tabeller!V$11,(W4/12)*Tabeller!V$10),IF($B4="Teknisk/adm. bistand/Feltassistent",(W4/12)*Tabeller!V$13,(W4/12)*Tabeller!V$12)) -> 0
C5: =IF(Registrering!$B$28="Fast beløp",0,IF(Registrering!$B$28="Sats for ekst. fin. overhead",0,DL5)) -> 0 | D5: =SUM(AR5:BD5) -> 0 | E5: =IFERROR(SUM(BF5:BR5),0) -> 0 | F5: =SUM(D5:E5) -> 0 | G5: =SUM(K5:W5)/12 -> 0 | AG5: =I5 -> 0 | AH5: =AG5*Tabeller!$I$35 -> 0 | AI5: =IF(AG5>0,(AH5-400)/52*47,0) -> 0 | AJ5: =AI5*Tabeller!$H$26 -> 0 | AK5: =SUM(AI5:AJ5,AL5)*Tabeller!$H$28 -> 0 | AL5: =AH5*Tabeller!$H$27 -> 0 | AM5: =SUM(AI5:AL5) -> 0 | AN5: =AM5+(IF(B5="Teknisk adm bistand",Registrering!$E$51,Registrering!$B$51)) -> 0 | AO5: =AN5/Tabeller!$H$5 -> 0 | AR5: =((K5*Budsjett!$AM5))/12 -> 0 | AS5: =((L5*Budsjett!$AM5)*(Tabeller!J$35))/12 -> 0 | AT5: =((M5*Budsjett!$AM5)*(Tabeller!K$35))/12 -> 0 | AU5: =((N5*Budsjett!$AM5)*(Tabeller!L$35))/12 -> 0 | AV5: =((O5*Budsjett!$AM5)*(Tabeller!M$35))/12 -> 0 | AW5: =((P5*Budsjett!$AM5)*(Tabeller!N$35))/12 -> 0 | AX5: =((Q5*Budsjett!$AM5)*(Tabeller!O$35))/12 -> 0 | AY5: =((R5*Budsjett!$AM5)*(Tabeller!P$35))/12 -> 0 | AZ5: =((S5*Budsjett!$AM5)*(Tabeller!Q$35))/12 -> 0 | ... BD5: =((W5*Budsjett!$AM5)*(Tabeller!U$35))/12 -> 0 | BF5: =IFERROR(IF($E$83>$E$82,BU5,GS5),0) -> 0 | BG5: =IFERROR(IF($E$83>$E$82,BV5,GT5),0) -> 0 | BH5: =IFERROR(IF($E$83>$E$82,BW5,GU5),0) -> 0 | BI5: =IFERROR(IF($E$83>$E$82,BX5,GV5),0) -> 0 | BJ5: =IFERROR(IF($E$83>$E$82,BY5,GW5),0) -> 0 | BK5: =IFERROR(IF($E$83>$E$82,BZ5,GX5),0) -> 0 | BL5: =IFERROR(IF($E$83>$E$82,CA5,GY5),0) -> 0 | BM5: =IFERROR(IF($E$83>$E$82,CB5,GZ5),0) -> 0 | ... BR5: =IFERROR(IF($E$83>$E$82,CG5,HE5),0) -> 0 | BU5: =IFERROR(IF($E$85=$E$84,AR5*$E$85,AR5*Budsjett!$E$84),0) -> 0 | BV5: =IFERROR(IF($E$85=$E$84,AS5*$E$85,AS5*Budsjett!$E$84),0) -> 0 | BW5: =IFERROR(IF($E$85=$E$84,AT5*$E$85,AT5*Budsjett!$E$84),0) -> 0 | BX5: =IFERROR(IF($E$85=$E$84,AU5*$E$85,AU5*Budsjett!$E$84),0) -> 0 | BY5: =IFERROR(IF($E$85=$E$84,AV5*$E$85,AV5*Budsjett!$E$84),0) -> 0 | BZ5: =IFERROR(IF($E$85=$E$84,AW5*$E$85,AW5*Budsjett!$E$84),0) -> 0 | CA5: =IFERROR(IF($E$85=$E$84,AX5*$E$85,AX5*Budsjett!$E$84),0) -> 0 | CB5: =IFERROR(IF($E$85=$E$84,AY5*$E$85,AY5*Budsjett!$E$84),0) -> 0 | ... CG5: =IFERROR(IF($E$85=$E$84,BD5*$E$85,BD5*Budsjett!$E$84),0) -> 0 | CJ5: =BF5-BU5 -> 0 | CK5: =BG5-BV5 -> 0 | CL5: =BH5-BW5 -> 0 | CM5: =BI5-BX5 -> 0 | CN5: =BJ5-BY5 -> 0 | CO5: =BK5-BZ5 -> 0 | CP5: =BL5-CA5 -> 0 | CQ5: =BM5-CB5 -> 0 | ... CV5: =BR5-CG5 -> 0 | CX5: =B5 -> 0 | CY5: =-((IF($CX5="Teknisk/adm. bistand/Feltassistent",IF(Budsjett!AR5*(1+Tabeller!$I$62)>Tabeller!I$55,Tabeller!I$55,Budsjett!AR5*(1+Tabeller!$I$62)),0)+(IF($CX5="Forsker - professor",Tabeller!I$55*K5,0)+IF($CX5="Prosjektleder/adm.leder",Tabeller!I$54*K5,0)+IF($CX5="Forsker - 1.aman.",Tabeller!I$56*K5,0)+IF($CX5="Gjesteforsker",Tabeller!I$58*K5,0)+IF($CX5="Postdoktor / forsker",Tabeller!I$59*K5,0)+IF($CX5="Stipendiat",Tabeller!I$60*K5,0)+IF($CX5="Forsker (rundsum)",Tabeller!I$57*K5,0)+IF($CX5="Vit.ass",Tabeller!I$61*K5,0))/12)) -> 0 | CZ5: =-((IF($CX5="Teknisk/adm. bistand/Feltassistent",IF(Budsjett!AS5*(1+Tabeller!$I$62)>Tabeller!J$55,Tabeller!J$55,Budsjett!AS5*(1+Tabeller!$I$62)),0)+(IF($CX5="Forsker - professor",Tabeller!J$55*L5,0)+IF($CX5="Prosjektleder/adm.leder",Tabeller!J$54*L5,0)+IF($CX5="Forsker - 1.aman.",Tabeller!J$56*L5,0)+IF($CX5="Gjesteforsker",Tabeller!J$58*L5,0)+IF($CX5="Postdoktor / forsker",Tabeller!J$59*L5,0)+IF($CX5="Stipendiat",Tabeller!J$60*L5,0)+IF($CX5="Forsker (rundsum)",Tabeller!J$57*L5,0)+IF($CX5="Vit.ass",Tabeller!J$61*L5,0))/12)) -> 0 | DA5: =-((IF($CX5="Teknisk/adm. bistand/Feltassistent",IF(Budsjett!AT5*(1+Tabeller!$I$62)>Tabeller!K$55,Tabeller!K$55,Budsjett!AT5*(1+Tabeller!$I$62)),0)+(IF($CX5="Forsker - professor",Tabeller!K$55*M5,0)+IF($CX5="Prosjektleder/adm.leder",Tabeller!K$54*M5,0)+IF($CX5="Forsker - 1.aman.",Tabeller!K$56*M5,0)+IF($CX5="Gjesteforsker",Tabeller!K$58*M5,0)+IF($CX5="Postdoktor / forsker",Tabeller!K$59*M5,0)+IF($CX5="Stipendiat",Tabeller!K$60*M5,0)+IF($CX5="Forsker (rundsum)",Tabeller!K$57*M5,0)+IF($CX5="Vit.ass",Tabeller!K$61*M5,0))/12)) -> 0 | DB5: =-((IF($CX5="Teknisk/adm. bistand/Feltassistent",IF(Budsjett!AU5*(1+Tabeller!$I$62)>Tabeller!L$55,Tabeller!L$55,Budsjett!AU5*(1+Tabeller!$I$62)),0)+(IF($CX5="Forsker - professor",Tabeller!L$55*N5,0)+IF($CX5="Prosjektleder/adm.leder",Tabeller!L$54*N5,0)+IF($CX5="Forsker - 1.aman.",Tabeller!L$56*N5,0)+IF($CX5="Gjesteforsker",Tabeller!L$58*N5,0)+IF($CX5="Postdoktor / forsker",Tabeller!L$59*N5,0)+IF($CX5="Stipendiat",Tabeller!L$60*N5,0)+IF($CX5="Forsker (rundsum)",Tabeller!L$57*N5,0)+IF($CX5="Vit.ass",Tabeller!L$61*N5,0))/12)) -> 0 | DC5: =-((IF($CX5="Teknisk/adm. bistand/Feltassistent",IF(Budsjett!AV5*(1+Tabeller!$I$62)>Tabeller!M$55,Tabeller!M$55,Budsjett!AV5*(1+Tabeller!$I$62)),0)+(IF($CX5="Forsker - professor",Tabeller!M$55*O5,0)+IF($CX5="Prosjektleder/adm.leder",Tabeller!M$54*O5,0)+IF($CX5="Forsker - 1.aman.",Tabeller!M$56*O5,0)+IF($CX5="Gjesteforsker",Tabeller!M$58*O5,0)+IF($CX5="Postdoktor / forsker",Tabeller!M$59*O5,0)+IF($CX5="Stipendiat",Tabeller!M$60*O5,0)+IF($CX5="Forsker (rundsum)",Tabeller!M$57*O5,0)+IF($CX5="Vit.ass",Tabeller!M$61*O5,0))/12)) -> 0 | DD5: =-((IF($CX5="Teknisk/adm. bistand/Feltassistent",IF(Budsjett!AW5*(1+Tabeller!$I$62)>Tabeller!N$55,Tabeller!N$55,Budsjett!AW5*(1+Tabeller!$I$62)),0)+(IF($CX5="Forsker - professor",Tabeller!N$55*P5,0)+IF($CX5="Prosjektleder/adm.leder",Tabeller!N$54*P5,0)+IF($CX5="Forsker - 1.aman.",Tabeller!N$56*P5,0)+IF($CX5="Gjesteforsker",Tabeller!N$58*P5,0)+IF($CX5="Postdoktor / forsker",Tabeller!N$59*P5,0)+IF($CX5="Stipendiat",Tabeller!N$60*P5,0)+IF($CX5="Forsker (rundsum)",Tabeller!N$57*P5,0)+IF($CX5="Vit.ass",Tabeller!N$61*P5,0))/12)) -> 0 | DE5: =-((IF($CX5="Teknisk/adm. bistand/Feltassistent",IF(Budsjett!AX5*(1+Tabeller!$I$62)>Tabeller!O$55,Tabeller!O$55,Budsjett!AX5*(1+Tabeller!$I$62)),0)+(IF($CX5="Forsker - professor",Tabeller!O$55*Q5,0)+IF($CX5="Prosjektleder/adm.leder",Tabeller!O$54*Q5,0)+IF($CX5="Forsker - 1.aman.",Tabeller!O$56*Q5,0)+IF($CX5="Gjesteforsker",Tabeller!O$58*Q5,0)+IF($CX5="Postdoktor / forsker",Tabeller!O$59*Q5,0)+IF($CX5="Stipendiat",Tabeller!O$60*Q5,0)+IF($CX5="Forsker (rundsum)",Tabeller!O$57*Q5,0)+IF($CX5="Vit.ass",Tabeller!O$61*Q5,0))/12)) -> 0 | DF5: =-((IF($CX5="Teknisk/adm. bistand/Feltassistent",IF(Budsjett!AY5*(1+Tabeller!$I$62)>Tabeller!P$55,Tabeller!P$55,Budsjett!AY5*(1+Tabeller!$I$62)),0)+(IF($CX5="Forsker - professor",Tabeller!P$55*R5,0)+IF($CX5="Prosjektleder/adm.leder",Tabeller!P$54*R5,0)+IF($CX5="Forsker - 1.aman.",Tabeller!P$56*R5,0)+IF($CX5="Gjesteforsker",Tabeller!P$58*R5,0)+IF($CX5="Postdoktor / forsker",Tabeller!P$59*R5,0)+IF($CX5="Stipendiat",Tabeller!P$60*R5,0)+IF($CX5="Forsker (rundsum)",Tabeller!P$57*R5,0)+IF($CX5="Vit.ass",Tabeller!P$61*R5,0))/12)) -> 0 | ... DK5: =-((IF($CX5="Teknisk/adm. bistand/Feltassistent",IF(Budsjett!BD5*(1+Tabeller!$I$62)>Tabeller!U$55,Tabeller!U$55,Budsjett!BD5*(1+Tabeller!$I$62)),0)+(IF($CX5="Forsker - professor",Tabeller!U$55*W5,0)+IF($CX5="Prosjektleder/adm.leder",Tabeller!U$54*W5,0)+IF($CX5="Forsker - 1.aman.",Tabeller!U$56*W5,0)+IF($CX5="Gjesteforsker",Tabeller!U$58*W5,0)+IF($CX5="Postdoktor / forsker",Tabeller!U$59*W5,0)+IF($CX5="Stipendiat",Tabeller!U$60*W5,0)+IF($CX5="Forsker (rundsum)",Tabeller!U$57*W5,0)+IF($CX5="Vit.ass",Tabeller!U$61*W5,0))/12)) -> 0 | DL5: =SUM(CY5:DK5) -> 0 | DO5: =CX5 -> 0 | DP5: =IF($H5="NFR",CY5,0) -> 0 | DQ5: =IF($H5="NFR",CZ5,0) -> 0 | DR5: =IF($H5="NFR",DA5,0) -> 0 | DS5: =IF($H5="NFR",DB5,0) -> 0 | DT5: =IF($H5="NFR",DC5,0) -> 0 | DU5: =IF($H5="NFR",DD5,0) -> 0 | DV5: =IF($H5="NFR",DE5,0) -> 0 | DW5: =IF($H5="NFR",DF5,0) -> 0 | ... EB5: =IF($H5="NFR",DK5,0) -> 0 | EC5: =SUM(DP5:EB5) -> 0 | EE5: =DO5 -> 0 | EF5: =IF($H5=$EE$1,CY5,0) -> 0 | EG5: =IF($H5=$EE$1,CZ5,0) -> 0 | EH5: =IF($H5=$EE$1,DA5,0) -> 0 | EI5: =IF($H5=$EE$1,DB5,0) -> 0 | EJ5: =IF($H5=$EE$1,DC5,0) -> 0 | EK5: =IF($H5=$EE$1,DD5,0) -> 0 | EL5: =IF($H5=$EE$1,DE5,0) -> 0 | EM5: =IF($H5=$EE$1,DF5,0) -> 0 | ... ER5: =IF($H5=$EE$1,DK5,0) -> 0 | ES5: =SUM(EF5:ER5) -> 0 | EU5: =EE5 -> 0 | EV5: =IF($H5=$EU$1,CY5,0) -> 0 | EW5: =IF($H5=$EU$1,CZ5,0) -> 0 | EX5: =IF($H5=$EU$1,DA5,0) -> 0 | EY5: =IF($H5=$EU$1,DB5,0) -> 0 | EZ5: =IF($H5=$EU$1,DC5,0) -> 0 | FA5: =IF($H5=$EU$1,DD5,0) -> 0 | FB5: =IF($H5=$EU$1,DE5,0) -> 0 | FC5: =IF($H5=$EU$1,DF5,0) -> 0 | ... FH5: =IF($H5=$EU$1,DK5,0) -> 0 | FI5: =SUM(EV5:FH5) -> 0 | FK5: =EU5 -> 0 | FL5: =IF($H5=$FK$1,CY5,0) -> 0 | FM5: =IF($H5=$FK$1,CZ5,0) -> 0 | FN5: =IF($H5=$FK$1,DA5,0) -> 0 | FO5: =IF($H5=$FK$1,DB5,0) -> 0 | FP5: =IF($H5=$FK$1,DC5,0) -> 0 | FQ5: =IF($H5=$FK$1,DD5,0) -> 0 | FR5: =IF($H5=$FK$1,DE5,0) -> 0 | FS5: =IF($H5=$FK$1,DF5,0) -> 0 | ... FX5: =IF($H5=$FK$1,DK5,0) -> 0 | FY5: =SUM(FL5:FX5) -> 0 | GB5: =FK5 -> 0 | GP5: =SUM(GC5:GO5) -> 0 | GS5: =IF(Registrering!$B$29="Prosjekter som foregår i UiOs lokaler",IF($B5="Teknisk/adm. bistand/Feltassistent",(K5/12)*Tabeller!J$11,(K5/12)*Tabeller!J$10),IF($B5="Teknisk/adm. bistand/Feltassistent",(K5/12)*Tabeller!J$13,(K5/12)*Tabeller!J$12)) -> 0 | GT5: =IF(Registrering!$B$29="Prosjekter som foregår i UiOs lokaler",IF($B5="Teknisk/adm. bistand/Feltassistent",(L5/12)*Tabeller!K$11,(L5/12)*Tabeller!K$10),IF($B5="Teknisk/adm. bistand/Feltassistent",(L5/12)*Tabeller!K$13,(L5/12)*Tabeller!K$12)) -> 0 | GU5: =IF(Registrering!$B$29="Prosjekter som foregår i UiOs lokaler",IF($B5="Teknisk/adm. bistand/Feltassistent",(M5/12)*Tabeller!L$11,(M5/12)*Tabeller!L$10),IF($B5="Teknisk/adm. bistand/Feltassistent",(M5/12)*Tabeller!L$13,(M5/12)*Tabeller!L$12)) -> 0 | GV5: =IF(Registrering!$B$29="Prosjekter som foregår i UiOs lokaler",IF($B5="Teknisk/adm. bistand/Feltassistent",(N5/12)*Tabeller!M$11,(N5/12)*Tabeller!M$10),IF($B5="Teknisk/adm. bistand/Feltassistent",(N5/12)*Tabeller!M$13,(N5/12)*Tabeller!M$12)) -> 0 | GW5: =IF(Registrering!$B$29="Prosjekter som foregår i UiOs lokaler",IF($B5="Teknisk/adm. bistand/Feltassistent",(O5/12)*Tabeller!N$11,(O5/12)*Tabeller!N$10),IF($B5="Teknisk/adm. bistand/Feltassistent",(O5/12)*Tabeller!N$13,(O5/12)*Tabeller!N$12)) -> 0 | GX5: =IF(Registrering!$B$29="Prosjekter som foregår i UiOs lokaler",IF($B5="Teknisk/adm. bistand/Feltassistent",(P5/12)*Tabeller!O$11,(P5/12)*Tabeller!O$10),IF($B5="Teknisk/adm. bistand/Feltassistent",(P5/12)*Tabeller!O$13,(P5/12)*Tabeller!O$12)) -> 0 | GY5: =IF(Registrering!$B$29="Prosjekter som foregår i UiOs lokaler",IF($B5="Teknisk/adm. bistand/Feltassistent",(Q5/12)*Tabeller!P$11,(Q5/12)*Tabeller!P$10),IF($B5="Teknisk/adm. bistand/Feltassistent",(Q5/12)*Tabeller!P$13,(Q5/12)*Tabeller!P$12)) -> 0 | GZ5: =IF(Registrering!$B$29="Prosjekter som foregår i UiOs lokaler",IF($B5="Teknisk/adm. bistand/Feltassistent",(R5/12)*Tabeller!Q$11,(R5/12)*Tabeller!Q$10),IF($B5="Teknisk/adm. bistand/Feltassistent",(R5/12)*Tabeller!Q$13,(R5/12)*Tabeller!Q$12)) -> 0 | ... HE5: =IF(Registrering!$B$29="Prosjekter som foregår i UiOs lokaler",IF($B5="Teknisk/adm. bistand/Feltassistent",(W5/12)*Tabeller!V$11,(W5/12)*Tabeller!V$10),IF($B5="Teknisk/adm. bistand/Feltassistent",(W5/12)*Tabeller!V$13,(W5/12)*Tabeller!V$12)) -> 0
C6: =IF(Registrering!$B$28="Fast beløp",0,IF(Registrering!$B$28="Sats for ekst. fin. overhead",0,DL6)) -> 0 | D6: =SUM(AR6:BD6) -> 0 | E6: =IFERROR(SUM(BF6:BR6),0) -> 0 | F6: =SUM(D6:E6) -> 0 | G6: =SUM(K6:W6)/12 -> 0 | AG6: =I6 -> 0 | AH6: =AG6*Tabeller!$I$35 -> 0 | AI6: =IF(AG6>0,(AH6-400)/52*47,0) -> 0 | AJ6: =AI6*Tabeller!$H$26 -> 0 | AK6: =SUM(AI6:AJ6,AL6)*Tabeller!$H$28 -> 0 | AL6: =AH6*Tabeller!$H$27 -> 0 | AM6: =SUM(AI6:AL6) -> 0 | AN6: =AM6+(IF(B6="Teknisk adm bistand",Registrering!$E$51,Registrering!$B$51)) -> 0 | AO6: =AN6/Tabeller!$H$5 -> 0 | AR6: =((K6*Budsjett!$AM6))/12 -> 0 | AS6: =((L6*Budsjett!$AM6)*(Tabeller!J$35))/12 -> 0 | AT6: =((M6*Budsjett!$AM6)*(Tabeller!K$35))/12 -> 0 | AU6: =((N6*Budsjett!$AM6)*(Tabeller!L$35))/12 -> 0 | AV6: =((O6*Budsjett!$AM6)*(Tabeller!M$35))/12 -> 0 | AW6: =((P6*Budsjett!$AM6)*(Tabeller!N$35))/12 -> 0 | AX6: =((Q6*Budsjett!$AM6)*(Tabeller!O$35))/12 -> 0 | AY6: =((R6*Budsjett!$AM6)*(Tabeller!P$35))/12 -> 0 | AZ6: =((S6*Budsjett!$AM6)*(Tabeller!Q$35))/12 -> 0 | ... BD6: =((W6*Budsjett!$AM6)*(Tabeller!U$35))/12 -> 0 | BF6: =IFERROR(IF($E$83>$E$82,BU6,GS6),0) -> 0 | BG6: =IFERROR(IF($E$83>$E$82,BV6,GT6),0) -> 0 | BH6: =IFERROR(IF($E$83>$E$82,BW6,GU6),0) -> 0 | BI6: =IFERROR(IF($E$83>$E$82,BX6,GV6),0) -> 0 | BJ6: =IFERROR(IF($E$83>$E$82,BY6,GW6),0) -> 0 | BK6: =IFERROR(IF($E$83>$E$82,BZ6,GX6),0) -> 0 | BL6: =IFERROR(IF($E$83>$E$82,CA6,GY6),0) -> 0 | BM6: =IFERROR(IF($E$83>$E$82,CB6,GZ6),0) -> 0 | ... BR6: =IFERROR(IF($E$83>$E$82,CG6,HE6),0) -> 0 | BU6: =IFERROR(IF($E$85=$E$84,AR6*$E$85,AR6*Budsjett!$E$84),0) -> 0 | BV6: =IFERROR(IF($E$85=$E$84,AS6*$E$85,AS6*Budsjett!$E$84),0) -> 0 | BW6: =IFERROR(IF($E$85=$E$84,AT6*$E$85,AT6*Budsjett!$E$84),0) -> 0 | BX6: =IFERROR(IF($E$85=$E$84,AU6*$E$85,AU6*Budsjett!$E$84),0) -> 0 | BY6: =IFERROR(IF($E$85=$E$84,AV6*$E$85,AV6*Budsjett!$E$84),0) -> 0 | BZ6: =IFERROR(IF($E$85=$E$84,AW6*$E$85,AW6*Budsjett!$E$84),0) -> 0 | CA6: =IFERROR(IF($E$85=$E$84,AX6*$E$85,AX6*Budsjett!$E$84),0) -> 0 | CB6: =IFERROR(IF($E$85=$E$84,AY6*$E$85,AY6*Budsjett!$E$84),0) -> 0 | ... CG6: =IFERROR(IF($E$85=$E$84,BD6*$E$85,BD6*Budsjett!$E$84),0) -> 0 | CJ6: =BF6-BU6 -> 0 | CK6: =BG6-BV6 -> 0 | CL6: =BH6-BW6 -> 0 | CM6: =BI6-BX6 -> 0 | CN6: =BJ6-BY6 -> 0 | CO6: =BK6-BZ6 -> 0 | CP6: =BL6-CA6 -> 0 | CQ6: =BM6-CB6 -> 0 | ... CV6: =BR6-CG6 -> 0 | CX6: =B6 -> 0 | CY6: =-((IF($CX6="Teknisk/adm. bistand/Feltassistent",IF(Budsjett!AR6*(1+Tabeller!$I$62)>Tabeller!I$55,Tabeller!I$55,Budsjett!AR6*(1+Tabeller!$I$62)),0)+(IF($CX6="Forsker - professor",Tabeller!I$55*K6,0)+IF($CX6="Prosjektleder/adm.leder",Tabeller!I$54*K6,0)+IF($CX6="Forsker - 1.aman.",Tabeller!I$56*K6,0)+IF($CX6="Gjesteforsker",Tabeller!I$58*K6,0)+IF($CX6="Postdoktor / forsker",Tabeller!I$59*K6,0)+IF($CX6="Stipendiat",Tabeller!I$60*K6,0)+IF($CX6="Forsker (rundsum)",Tabeller!I$57*K6,0)+IF($CX6="Vit.ass",Tabeller!I$61*K6,0))/12)) -> 0 | CZ6: =-((IF($CX6="Teknisk/adm. bistand/Feltassistent",IF(Budsjett!AS6*(1+Tabeller!$I$62)>Tabeller!J$55,Tabeller!J$55,Budsjett!AS6*(1+Tabeller!$I$62)),0)+(IF($CX6="Forsker - professor",Tabeller!J$55*L6,0)+IF($CX6="Prosjektleder/adm.leder",Tabeller!J$54*L6,0)+IF($CX6="Forsker - 1.aman.",Tabeller!J$56*L6,0)+IF($CX6="Gjesteforsker",Tabeller!J$58*L6,0)+IF($CX6="Postdoktor / forsker",Tabeller!J$59*L6,0)+IF($CX6="Stipendiat",Tabeller!J$60*L6,0)+IF($CX6="Forsker (rundsum)",Tabeller!J$57*L6,0)+IF($CX6="Vit.ass",Tabeller!J$61*L6,0))/12)) -> 0 | DA6: =-((IF($CX6="Teknisk/adm. bistand/Feltassistent",IF(Budsjett!AT6*(1+Tabeller!$I$62)>Tabeller!K$55,Tabeller!K$55,Budsjett!AT6*(1+Tabeller!$I$62)),0)+(IF($CX6="Forsker - professor",Tabeller!K$55*M6,0)+IF($CX6="Prosjektleder/adm.leder",Tabeller!K$54*M6,0)+IF($CX6="Forsker - 1.aman.",Tabeller!K$56*M6,0)+IF($CX6="Gjesteforsker",Tabeller!K$58*M6,0)+IF($CX6="Postdoktor / forsker",Tabeller!K$59*M6,0)+IF($CX6="Stipendiat",Tabeller!K$60*M6,0)+IF($CX6="Forsker (rundsum)",Tabeller!K$57*M6,0)+IF($CX6="Vit.ass",Tabeller!K$61*M6,0))/12)) -> 0 | DB6: =-((IF($CX6="Teknisk/adm. bistand/Feltassistent",IF(Budsjett!AU6*(1+Tabeller!$I$62)>Tabeller!L$55,Tabeller!L$55,Budsjett!AU6*(1+Tabeller!$I$62)),0)+(IF($CX6="Forsker - professor",Tabeller!L$55*N6,0)+IF($CX6="Prosjektleder/adm.leder",Tabeller!L$54*N6,0)+IF($CX6="Forsker - 1.aman.",Tabeller!L$56*N6,0)+IF($CX6="Gjesteforsker",Tabeller!L$58*N6,0)+IF($CX6="Postdoktor / forsker",Tabeller!L$59*N6,0)+IF($CX6="Stipendiat",Tabeller!L$60*N6,0)+IF($CX6="Forsker (rundsum)",Tabeller!L$57*N6,0)+IF($CX6="Vit.ass",Tabeller!L$61*N6,0))/12)) -> 0 | DC6: =-((IF($CX6="Teknisk/adm. bistand/Feltassistent",IF(Budsjett!AV6*(1+Tabeller!$I$62)>Tabeller!M$55,Tabeller!M$55,Budsjett!AV6*(1+Tabeller!$I$62)),0)+(IF($CX6="Forsker - professor",Tabeller!M$55*O6,0)+IF($CX6="Prosjektleder/adm.leder",Tabeller!M$54*O6,0)+IF($CX6="Forsker - 1.aman.",Tabeller!M$56*O6,0)+IF($CX6="Gjesteforsker",Tabeller!M$58*O6,0)+IF($CX6="Postdoktor / forsker",Tabeller!M$59*O6,0)+IF($CX6="Stipendiat",Tabeller!M$60*O6,0)+IF($CX6="Forsker (rundsum)",Tabeller!M$57*O6,0)+IF($CX6="Vit.ass",Tabeller!M$61*O6,0))/12)) -> 0 | DD6: =-((IF($CX6="Teknisk/adm. bistand/Feltassistent",IF(Budsjett!AW6*(1+Tabeller!$I$62)>Tabeller!N$55,Tabeller!N$55,Budsjett!AW6*(1+Tabeller!$I$62)),0)+(IF($CX6="Forsker - professor",Tabeller!N$55*P6,0)+IF($CX6="Prosjektleder/adm.leder",Tabeller!N$54*P6,0)+IF($CX6="Forsker - 1.aman.",Tabeller!N$56*P6,0)+IF($CX6="Gjesteforsker",Tabeller!N$58*P6,0)+IF($CX6="Postdoktor / forsker",Tabeller!N$59*P6,0)+IF($CX6="Stipendiat",Tabeller!N$60*P6,0)+IF($CX6="Forsker (rundsum)",Tabeller!N$57*P6,0)+IF($CX6="Vit.ass",Tabeller!N$61*P6,0))/12)) -> 0 | DE6: =-((IF($CX6="Teknisk/adm. bistand/Feltassistent",IF(Budsjett!AX6*(1+Tabeller!$I$62)>Tabeller!O$55,Tabeller!O$55,Budsjett!AX6*(1+Tabeller!$I$62)),0)+(IF($CX6="Forsker - professor",Tabeller!O$55*Q6,0)+IF($CX6="Prosjektleder/adm.leder",Tabeller!O$54*Q6,0)+IF($CX6="Forsker - 1.aman.",Tabeller!O$56*Q6,0)+IF($CX6="Gjesteforsker",Tabeller!O$58*Q6,0)+IF($CX6="Postdoktor / forsker",Tabeller!O$59*Q6,0)+IF($CX6="Stipendiat",Tabeller!O$60*Q6,0)+IF($CX6="Forsker (rundsum)",Tabeller!O$57*Q6,0)+IF($CX6="Vit.ass",Tabeller!O$61*Q6,0))/12)) -> 0 | DF6: =-((IF($CX6="Teknisk/adm. bistand/Feltassistent",IF(Budsjett!AY6*(1+Tabeller!$I$62)>Tabeller!P$55,Tabeller!P$55,Budsjett!AY6*(1+Tabeller!$I$62)),0)+(IF($CX6="Forsker - professor",Tabeller!P$55*R6,0)+IF($CX6="Prosjektleder/adm.leder",Tabeller!P$54*R6,0)+IF($CX6="Forsker - 1.aman.",Tabeller!P$56*R6,0)+IF($CX6="Gjesteforsker",Tabeller!P$58*R6,0)+IF($CX6="Postdoktor / forsker",Tabeller!P$59*R6,0)+IF($CX6="Stipendiat",Tabeller!P$60*R6,0)+IF($CX6="Forsker (rundsum)",Tabeller!P$57*R6,0)+IF($CX6="Vit.ass",Tabeller!P$61*R6,0))/12)) -> 0 | ... DK6: =-((IF($CX6="Teknisk/adm. bistand/Feltassistent",IF(Budsjett!BD6*(1+Tabeller!$I$62)>Tabeller!U$55,Tabeller!U$55,Budsjett!BD6*(1+Tabeller!$I$62)),0)+(IF($CX6="Forsker - professor",Tabeller!U$55*W6,0)+IF($CX6="Prosjektleder/adm.leder",Tabeller!U$54*W6,0)+IF($CX6="Forsker - 1.aman.",Tabeller!U$56*W6,0)+IF($CX6="Gjesteforsker",Tabeller!U$58*W6,0)+IF($CX6="Postdoktor / forsker",Tabeller!U$59*W6,0)+IF($CX6="Stipendiat",Tabeller!U$60*W6,0)+IF($CX6="Forsker (rundsum)",Tabeller!U$57*W6,0)+IF($CX6="Vit.ass",Tabeller!U$61*W6,0))/12)) -> 0 | DL6: =SUM(CY6:DK6) -> 0 | DO6: =CX6 -> 0 | DP6: =IF($H6="NFR",CY6,0) -> 0 | DQ6: =IF($H6="NFR",CZ6,0) -> 0 | DR6: =IF($H6="NFR",DA6,0) -> 0 | DS6: =IF($H6="NFR",DB6,0) -> 0 | DT6: =IF($H6="NFR",DC6,0) -> 0 | DU6: =IF($H6="NFR",DD6,0) -> 0 | DV6: =IF($H6="NFR",DE6,0) -> 0 | DW6: =IF($H6="NFR",DF6,0) -> 0 | ... EB6: =IF($H6="NFR",DK6,0) -> 0 | EC6: =SUM(DP6:EB6) -> 0 | EE6: =DO6 -> 0 | EF6: =IF($H6=$EE$1,CY6,0) -> 0 | EG6: =IF($H6=$EE$1,CZ6,0) -> 0 | EH6: =IF($H6=$EE$1,DA6,0) -> 0 | EI6: =IF($H6=$EE$1,DB6,0) -> 0 | EJ6: =IF($H6=$EE$1,DC6,0) -> 0 | EK6: =IF($H6=$EE$1,DD6,0) -> 0 | EL6: =IF($H6=$EE$1,DE6,0) -> 0 | EM6: =IF($H6=$EE$1,DF6,0) -> 0 | ... ER6: =IF($H6=$EE$1,DK6,0) -> 0 | ES6: =SUM(EF6:ER6) -> 0 | EU6: =EE6 -> 0 | EV6: =IF($H6=$EU$1,CY6,0) -> 0 | EW6: =IF($H6=$EU$1,CZ6,0) -> 0 | EX6: =IF($H6=$EU$1,DA6,0) -> 0 | EY6: =IF($H6=$EU$1,DB6,0) -> 0 | EZ6: =IF($H6=$EU$1,DC6,0) -> 0 | FA6: =IF($H6=$EU$1,DD6,0) -> 0 | FB6: =IF($H6=$EU$1,DE6,0) -> 0 | FC6: =IF($H6=$EU$1,DF6,0) -> 0 | ... FH6: =IF($H6=$EU$1,DK6,0) -> 0 | FI6: =SUM(EV6:FH6) -> 0 | FK6: =EU6 -> 0 | FL6: =IF($H6=$FK$1,CY6,0) -> 0 | FM6: =IF($H6=$FK$1,CZ6,0) -> 0 | FN6: =IF($H6=$FK$1,DA6,0) -> 0 | FO6: =IF($H6=$FK$1,DB6,0) -> 0 | FP6: =IF($H6=$FK$1,DC6,0) -> 0 | FQ6: =IF($H6=$FK$1,DD6,0) -> 0 | FR6: =IF($H6=$FK$1,DE6,0) -> 0 | FS6: =IF($H6=$FK$1,DF6,0) -> 0 | ... FX6: =IF($H6=$FK$1,DK6,0) -> 0 | FY6: =SUM(FL6:FX6) -> 0 | GB6: =FK6 -> 0 | GP6: =SUM(GC6:GO6) -> 0 | GS6: =IF(Registrering!$B$29="Prosjekter som foregår i UiOs lokaler",IF($B6="Teknisk/adm. bistand/Feltassistent",(K6/12)*Tabeller!J$11,(K6/12)*Tabeller!J$10),IF($B6="Teknisk/adm. bistand/Feltassistent",(K6/12)*Tabeller!J$13,(K6/12)*Tabeller!J$12)) -> 0 | GT6: =IF(Registrering!$B$29="Prosjekter som foregår i UiOs lokaler",IF($B6="Teknisk/adm. bistand/Feltassistent",(L6/12)*Tabeller!K$11,(L6/12)*Tabeller!K$10),IF($B6="Teknisk/adm. bistand/Feltassistent",(L6/12)*Tabeller!K$13,(L6/12)*Tabeller!K$12)) -> 0 | GU6: =IF(Registrering!$B$29="Prosjekter som foregår i UiOs lokaler",IF($B6="Teknisk/adm. bistand/Feltassistent",(M6/12)*Tabeller!L$11,(M6/12)*Tabeller!L$10),IF($B6="Teknisk/adm. bistand/Feltassistent",(M6/12)*Tabeller!L$13,(M6/12)*Tabeller!L$12)) -> 0 | GV6: =IF(Registrering!$B$29="Prosjekter som foregår i UiOs lokaler",IF($B6="Teknisk/adm. bistand/Feltassistent",(N6/12)*Tabeller!M$11,(N6/12)*Tabeller!M$10),IF($B6="Teknisk/adm. bistand/Feltassistent",(N6/12)*Tabeller!M$13,(N6/12)*Tabeller!M$12)) -> 0 | GW6: =IF(Registrering!$B$29="Prosjekter som foregår i UiOs lokaler",IF($B6="Teknisk/adm. bistand/Feltassistent",(O6/12)*Tabeller!N$11,(O6/12)*Tabeller!N$10),IF($B6="Teknisk/adm. bistand/Feltassistent",(O6/12)*Tabeller!N$13,(O6/12)*Tabeller!N$12)) -> 0 | GX6: =IF(Registrering!$B$29="Prosjekter som foregår i UiOs lokaler",IF($B6="Teknisk/adm. bistand/Feltassistent",(P6/12)*Tabeller!O$11,(P6/12)*Tabeller!O$10),IF($B6="Teknisk/adm. bistand/Feltassistent",(P6/12)*Tabeller!O$13,(P6/12)*Tabeller!O$12)) -> 0 | GY6: =IF(Registrering!$B$29="Prosjekter som foregår i UiOs lokaler",IF($B6="Teknisk/adm. bistand/Feltassistent",(Q6/12)*Tabeller!P$11,(Q6/12)*Tabeller!P$10),IF($B6="Teknisk/adm. bistand/Feltassistent",(Q6/12)*Tabeller!P$13,(Q6/12)*Tabeller!P$12)) -> 0 | GZ6: =IF(Registrering!$B$29="Prosjekter som foregår i UiOs lokaler",IF($B6="Teknisk/adm. bistand/Feltassistent",(R6/12)*Tabeller!Q$11,(R6/12)*Tabeller!Q$10),IF($B6="Teknisk/adm. bistand/Feltassistent",(R6/12)*Tabeller!Q$13,(R6/12)*Tabeller!Q$12)) -> 0 | ... HE6: =IF(Registrering!$B$29="Prosjekter som foregår i UiOs lokaler",IF($B6="Teknisk/adm. bistand/Feltassistent",(W6/12)*Tabeller!V$11,(W6/12)*Tabeller!V$10),IF($B6="Teknisk/adm. bistand/Feltassistent",(W6/12)*Tabeller!V$13,(W6/12)*Tabeller!V$12)) -> 0
C7: =IF(Registrering!$B$28="Fast beløp",0,IF(Registrering!$B$28="Sats for ekst. fin. overhead",0,DL7)) -> 0 | D7: =SUM(AR7:BD7) -> 0 | E7: =IFERROR(SUM(BF7:BR7),0) -> 0 | F7: =SUM(D7:E7) -> 0 | G7: =SUM(K7:W7)/12 -> 0 | AG7: =I7 -> 0 | AH7: =AG7*Tabeller!$I$35 -> 0 | AI7: =IF(AG7>0,(AH7-400)/52*47,0) -> 0 | AJ7: =AI7*Tabeller!$H$26 -> 0 | AK7: =SUM(AI7:AJ7,AL7)*Tabeller!$H$28 -> 0 | AL7: =AH7*Tabeller!$H$27 -> 0 | AM7: =SUM(AI7:AL7) -> 0 | AN7: =AM7+(IF(B7="Teknisk adm bistand",Registrering!$E$51,Registrering!$B$51)) -> 0 | AO7: =AN7/Tabeller!$H$5 -> 0 | AR7: =((K7*Budsjett!$AM7))/12 -> 0 | AS7: =((L7*Budsjett!$AM7)*(Tabeller!J$35))/12 -> 0 | AT7: =((M7*Budsjett!$AM7)*(Tabeller!K$35))/12 -> 0 | AU7: =((N7*Budsjett!$AM7)*(Tabeller!L$35))/12 -> 0 | AV7: =((O7*Budsjett!$AM7)*(Tabeller!M$35))/12 -> 0 | AW7: =((P7*Budsjett!$AM7)*(Tabeller!N$35))/12 -> 0 | AX7: =((Q7*Budsjett!$AM7)*(Tabeller!O$35))/12 -> 0 | AY7: =((R7*Budsjett!$AM7)*(Tabeller!P$35))/12 -> 0 | AZ7: =((S7*Budsjett!$AM7)*(Tabeller!Q$35))/12 -> 0 | ... BD7: =((W7*Budsjett!$AM7)*(Tabeller!U$35))/12 -> 0 | BF7: =IFERROR(IF($E$83>$E$82,BU7,GS7),0) -> 0 | BG7: =IFERROR(IF($E$83>$E$82,BV7,GT7),0) -> 0 | BH7: =IFERROR(IF($E$83>$E$82,BW7,GU7),0) -> 0 | BI7: =IFERROR(IF($E$83>$E$82,BX7,GV7),0) -> 0 | BJ7: =IFERROR(IF($E$83>$E$82,BY7,GW7),0) -> 0 | BK7: =IFERROR(IF($E$83>$E$82,BZ7,GX7),0) -> 0 | BL7: =IFERROR(IF($E$83>$E$82,CA7,GY7),0) -> 0 | BM7: =IFERROR(IF($E$83>$E$82,CB7,GZ7),0) -> 0 | ... BR7: =IFERROR(IF($E$83>$E$82,CG7,HE7),0) -> 0 | BU7: =IFERROR(IF($E$85=$E$84,AR7*$E$85,AR7*Budsjett!$E$84),0) -> 0 | BV7: =IFERROR(IF($E$85=$E$84,AS7*$E$85,AS7*Budsjett!$E$84),0) -> 0 | BW7: =IFERROR(IF($E$85=$E$84,AT7*$E$85,AT7*Budsjett!$E$84),0) -> 0 | BX7: =IFERROR(IF($E$85=$E$84,AU7*$E$85,AU7*Budsjett!$E$84),0) -> 0 | BY7: =IFERROR(IF($E$85=$E$84,AV7*$E$85,AV7*Budsjett!$E$84),0) -> 0 | BZ7: =IFERROR(IF($E$85=$E$84,AW7*$E$85,AW7*Budsjett!$E$84),0) -> 0 | CA7: =IFERROR(IF($E$85=$E$84,AX7*$E$85,AX7*Budsjett!$E$84),0) -> 0 | CB7: =IFERROR(IF($E$85=$E$84,AY7*$E$85,AY7*Budsjett!$E$84),0) -> 0 | ... CG7: =IFERROR(IF($E$85=$E$84,BD7*$E$85,BD7*Budsjett!$E$84),0) -> 0 | CJ7: =BF7-BU7 -> 0 | CK7: =BG7-BV7 -> 0 | CL7: =BH7-BW7 -> 0 | CM7: =BI7-BX7 -> 0 | CN7: =BJ7-BY7 -> 0 | CO7: =BK7-BZ7 -> 0 | CP7: =BL7-CA7 -> 0 | CQ7: =BM7-CB7 -> 0 | ... CV7: =BR7-CG7 -> 0 | CX7: =B7 -> 0 | CY7: =-((IF($CX7="Teknisk/adm. bistand/Feltassistent",IF(Budsjett!AR7*(1+Tabeller!$I$62)>Tabeller!I$55,Tabeller!I$55,Budsjett!AR7*(1+Tabeller!$I$62)),0)+(IF($CX7="Forsker - professor",Tabeller!I$55*K7,0)+IF($CX7="Prosjektleder/adm.leder",Tabeller!I$54*K7,0)+IF($CX7="Forsker - 1.aman.",Tabeller!I$56*K7,0)+IF($CX7="Gjesteforsker",Tabeller!I$58*K7,0)+IF($CX7="Postdoktor / forsker",Tabeller!I$59*K7,0)+IF($CX7="Stipendiat",Tabeller!I$60*K7,0)+IF($CX7="Forsker (rundsum)",Tabeller!I$57*K7,0)+IF($CX7="Vit.ass",Tabeller!I$61*K7,0))/12)) -> 0 | CZ7: =-((IF($CX7="Teknisk/adm. bistand/Feltassistent",IF(Budsjett!AS7*(1+Tabeller!$I$62)>Tabeller!J$55,Tabeller!J$55,Budsjett!AS7*(1+Tabeller!$I$62)),0)+(IF($CX7="Forsker - professor",Tabeller!J$55*L7,0)+IF($CX7="Prosjektleder/adm.leder",Tabeller!J$54*L7,0)+IF($CX7="Forsker - 1.aman.",Tabeller!J$56*L7,0)+IF($CX7="Gjesteforsker",Tabeller!J$58*L7,0)+IF($CX7="Postdoktor / forsker",Tabeller!J$59*L7,0)+IF($CX7="Stipendiat",Tabeller!J$60*L7,0)+IF($CX7="Forsker (rundsum)",Tabeller!J$57*L7,0)+IF($CX7="Vit.ass",Tabeller!J$61*L7,0))/12)) -> 0 | DA7: =-((IF($CX7="Teknisk/adm. bistand/Feltassistent",IF(Budsjett!AT7*(1+Tabeller!$I$62)>Tabeller!K$55,Tabeller!K$55,Budsjett!AT7*(1+Tabeller!$I$62)),0)+(IF($CX7="Forsker - professor",Tabeller!K$55*M7,0)+IF($CX7="Prosjektleder/adm.leder",Tabeller!K$54*M7,0)+IF($CX7="Forsker - 1.aman.",Tabeller!K$56*M7,0)+IF($CX7="Gjesteforsker",Tabeller!K$58*M7,0)+IF($CX7="Postdoktor / forsker",Tabeller!K$59*M7,0)+IF($CX7="Stipendiat",Tabeller!K$60*M7,0)+IF($CX7="Forsker (rundsum)",Tabeller!K$57*M7,0)+IF($CX7="Vit.ass",Tabeller!K$61*M7,0))/12)) -> 0 | DB7: =-((IF($CX7="Teknisk/adm. bistand/Feltassistent",IF(Budsjett!AU7*(1+Tabeller!$I$62)>Tabeller!L$55,Tabeller!L$55,Budsjett!AU7*(1+Tabeller!$I$62)),0)+(IF($CX7="Forsker - professor",Tabeller!L$55*N7,0)+IF($CX7="Prosjektleder/adm.leder",Tabeller!L$54*N7,0)+IF($CX7="Forsker - 1.aman.",Tabeller!L$56*N7,0)+IF($CX7="Gjesteforsker",Tabeller!L$58*N7,0)+IF($CX7="Postdoktor / forsker",Tabeller!L$59*N7,0)+IF($CX7="Stipendiat",Tabeller!L$60*N7,0)+IF($CX7="Forsker (rundsum)",Tabeller!L$57*N7,0)+IF($CX7="Vit.ass",Tabeller!L$61*N7,0))/12)) -> 0 | DC7: =-((IF($CX7="Teknisk/adm. bistand/Feltassistent",IF(Budsjett!AV7*(1+Tabeller!$I$62)>Tabeller!M$55,Tabeller!M$55,Budsjett!AV7*(1+Tabeller!$I$62)),0)+(IF($CX7="Forsker - professor",Tabeller!M$55*O7,0)+IF($CX7="Prosjektleder/adm.leder",Tabeller!M$54*O7,0)+IF($CX7="Forsker - 1.aman.",Tabeller!M$56*O7,0)+IF($CX7="Gjesteforsker",Tabeller!M$58*O7,0)+IF($CX7="Postdoktor / forsker",Tabeller!M$59*O7,0)+IF($CX7="Stipendiat",Tabeller!M$60*O7,0)+IF($CX7="Forsker (rundsum)",Tabeller!M$57*O7,0)+IF($CX7="Vit.ass",Tabeller!M$61*O7,0))/12)) -> 0 | DD7: =-((IF($CX7="Teknisk/adm. bistand/Feltassistent",IF(Budsjett!AW7*(1+Tabeller!$I$62)>Tabeller!N$55,Tabeller!N$55,Budsjett!AW7*(1+Tabeller!$I$62)),0)+(IF($CX7="Forsker - professor",Tabeller!N$55*P7,0)+IF($CX7="Prosjektleder/adm.leder",Tabeller!N$54*P7,0)+IF($CX7="Forsker - 1.aman.",Tabeller!N$56*P7,0)+IF($CX7="Gjesteforsker",Tabeller!N$58*P7,0)+IF($CX7="Postdoktor / forsker",Tabeller!N$59*P7,0)+IF($CX7="Stipendiat",Tabeller!N$60*P7,0)+IF($CX7="Forsker (rundsum)",Tabeller!N$57*P7,0)+IF($CX7="Vit.ass",Tabeller!N$61*P7,0))/12)) -> 0 | DE7: =-((IF($CX7="Teknisk/adm. bistand/Feltassistent",IF(Budsjett!AX7*(1+Tabeller!$I$62)>Tabeller!O$55,Tabeller!O$55,Budsjett!AX7*(1+Tabeller!$I$62)),0)+(IF($CX7="Forsker - professor",Tabeller!O$55*Q7,0)+IF($CX7="Prosjektleder/adm.leder",Tabeller!O$54*Q7,0)+IF($CX7="Forsker - 1.aman.",Tabeller!O$56*Q7,0)+IF($CX7="Gjesteforsker",Tabeller!O$58*Q7,0)+IF($CX7="Postdoktor / forsker",Tabeller!O$59*Q7,0)+IF($CX7="Stipendiat",Tabeller!O$60*Q7,0)+IF($CX7="Forsker (rundsum)",Tabeller!O$57*Q7,0)+IF($CX7="Vit.ass",Tabeller!O$61*Q7,0))/12)) -> 0 | DF7: =-((IF($CX7="Teknisk/adm. bistand/Feltassistent",IF(Budsjett!AY7*(1+Tabeller!$I$62)>Tabeller!P$55,Tabeller!P$55,Budsjett!AY7*(1+Tabeller!$I$62)),0)+(IF($CX7="Forsker - professor",Tabeller!P$55*R7,0)+IF($CX7="Prosjektleder/adm.leder",Tabeller!P$54*R7,0)+IF($CX7="Forsker - 1.aman.",Tabeller!P$56*R7,0)+IF($CX7="Gjesteforsker",Tabeller!P$58*R7,0)+IF($CX7="Postdoktor / forsker",Tabeller!P$59*R7,0)+IF($CX7="Stipendiat",Tabeller!P$60*R7,0)+IF($CX7="Forsker (rundsum)",Tabeller!P$57*R7,0)+IF($CX7="Vit.ass",Tabeller!P$61*R7,0))/12)) -> 0 | ... DK7: =-((IF($CX7="Teknisk/adm. bistand/Feltassistent",IF(Budsjett!BD7*(1+Tabeller!$I$62)>Tabeller!U$55,Tabeller!U$55,Budsjett!BD7*(1+Tabeller!$I$62)),0)+(IF($CX7="Forsker - professor",Tabeller!U$55*W7,0)+IF($CX7="Prosjektleder/adm.leder",Tabeller!U$54*W7,0)+IF($CX7="Forsker - 1.aman.",Tabeller!U$56*W7,0)+IF($CX7="Gjesteforsker",Tabeller!U$58*W7,0)+IF($CX7="Postdoktor / forsker",Tabeller!U$59*W7,0)+IF($CX7="Stipendiat",Tabeller!U$60*W7,0)+IF($CX7="Forsker (rundsum)",Tabeller!U$57*W7,0)+IF($CX7="Vit.ass",Tabeller!U$61*W7,0))/12)) -> 0 | DL7: =SUM(CY7:DK7) -> 0 | DO7: =CX7 -> 0 | DP7: =IF($H7="NFR",CY7,0) -> 0 | DQ7: =IF($H7="NFR",CZ7,0) -> 0 | DR7: =IF($H7="NFR",DA7,0) -> 0 | DS7: =IF($H7="NFR",DB7,0) -> 0 | DT7: =IF($H7="NFR",DC7,0) -> 0 | DU7: =IF($H7="NFR",DD7,0) -> 0 | DV7: =IF($H7="NFR",DE7,0) -> 0 | DW7: =IF($H7="NFR",DF7,0) -> 0 | ... EB7: =IF($H7="NFR",DK7,0) -> 0 | EC7: =SUM(DP7:EB7) -> 0 | EE7: =DO7 -> 0 | EF7: =IF($H7=$EE$1,CY7,0) -> 0 | EG7: =IF($H7=$EE$1,CZ7,0) -> 0 | EH7: =IF($H7=$EE$1,DA7,0) -> 0 | EI7: =IF($H7=$EE$1,DB7,0) -> 0 | EJ7: =IF($H7=$EE$1,DC7,0) -> 0 | EK7: =IF($H7=$EE$1,DD7,0) -> 0 | EL7: =IF($H7=$EE$1,DE7,0) -> 0 | EM7: =IF($H7=$EE$1,DF7,0) -> 0 | ... ER7: =IF($H7=$EE$1,DK7,0) -> 0 | ES7: =SUM(EF7:ER7) -> 0 | EU7: =EE7 -> 0 | EV7: =IF($H7=$EU$1,CY7,0) -> 0 | EW7: =IF($H7=$EU$1,CZ7,0) -> 0 | EX7: =IF($H7=$EU$1,DA7,0) -> 0 | EY7: =IF($H7=$EU$1,DB7,0) -> 0 | EZ7: =IF($H7=$EU$1,DC7,0) -> 0 | FA7: =IF($H7=$EU$1,DD7,0) -> 0 | FB7: =IF($H7=$EU$1,DE7,0) -> 0 | FC7: =IF($H7=$EU$1,DF7,0) -> 0 | ... FH7: =IF($H7=$EU$1,DK7,0) -> 0 | FI7: =SUM(EV7:FH7) -> 0 | FK7: =EU7 -> 0 | FL7: =IF($H7=$FK$1,CY7,0) -> 0 | FM7: =IF($H7=$FK$1,CZ7,0) -> 0 | FN7: =IF($H7=$FK$1,DA7,0) -> 0 | FO7: =IF($H7=$FK$1,DB7,0) -> 0 | FP7: =IF($H7=$FK$1,DC7,0) -> 0 | FQ7: =IF($H7=$FK$1,DD7,0) -> 0 | FR7: =IF($H7=$FK$1,DE7,0) -> 0 | FS7: =IF($H7=$FK$1,DF7,0) -> 0 | ... FX7: =IF($H7=$FK$1,DK7,0) -> 0 | FY7: =SUM(FL7:FX7) -> 0 | GB7: =FK7 -> 0 | GP7: =SUM(GC7:GO7) -> 0 | GS7: =IF(Registrering!$B$29="Prosjekter som foregår i UiOs lokaler",IF($B7="Teknisk/adm. bistand/Feltassistent",(K7/12)*Tabeller!J$11,(K7/12)*Tabeller!J$10),IF($B7="Teknisk/adm. bistand/Feltassistent",(K7/12)*Tabeller!J$13,(K7/12)*Tabeller!J$12)) -> 0 | GT7: =IF(Registrering!$B$29="Prosjekter som foregår i UiOs lokaler",IF($B7="Teknisk/adm. bistand/Feltassistent",(L7/12)*Tabeller!K$11,(L7/12)*Tabeller!K$10),IF($B7="Teknisk/adm. bistand/Feltassistent",(L7/12)*Tabeller!K$13,(L7/12)*Tabeller!K$12)) -> 0 | GU7: =IF(Registrering!$B$29="Prosjekter som foregår i UiOs lokaler",IF($B7="Teknisk/adm. bistand/Feltassistent",(M7/12)*Tabeller!L$11,(M7/12)*Tabeller!L$10),IF($B7="Teknisk/adm. bistand/Feltassistent",(M7/12)*Tabeller!L$13,(M7/12)*Tabeller!L$12)) -> 0 | GV7: =IF(Registrering!$B$29="Prosjekter som foregår i UiOs lokaler",IF($B7="Teknisk/adm. bistand/Feltassistent",(N7/12)*Tabeller!M$11,(N7/12)*Tabeller!M$10),IF($B7="Teknisk/adm. bistand/Feltassistent",(N7/12)*Tabeller!M$13,(N7/12)*Tabeller!M$12)) -> 0 | GW7: =IF(Registrering!$B$29="Prosjekter som foregår i UiOs lokaler",IF($B7="Teknisk/adm. bistand/Feltassistent",(O7/12)*Tabeller!N$11,(O7/12)*Tabeller!N$10),IF($B7="Teknisk/adm. bistand/Feltassistent",(O7/12)*Tabeller!N$13,(O7/12)*Tabeller!N$12)) -> 0 | GX7: =IF(Registrering!$B$29="Prosjekter som foregår i UiOs lokaler",IF($B7="Teknisk/adm. bistand/Feltassistent",(P7/12)*Tabeller!O$11,(P7/12)*Tabeller!O$10),IF($B7="Teknisk/adm. bistand/Feltassistent",(P7/12)*Tabeller!O$13,(P7/12)*Tabeller!O$12)) -> 0 | GY7: =IF(Registrering!$B$29="Prosjekter som foregår i UiOs lokaler",IF($B7="Teknisk/adm. bistand/Feltassistent",(Q7/12)*Tabeller!P$11,(Q7/12)*Tabeller!P$10),IF($B7="Teknisk/adm. bistand/Feltassistent",(Q7/12)*Tabeller!P$13,(Q7/12)*Tabeller!P$12)) -> 0 | GZ7: =IF(Registrering!$B$29="Prosjekter som foregår i UiOs lokaler",IF($B7="Teknisk/adm. bistand/Feltassistent",(R7/12)*Tabeller!Q$11,(R7/12)*Tabeller!Q$10),IF($B7="Teknisk/adm. bistand/Feltassistent",(R7/12)*Tabeller!Q$13,(R7/12)*Tabeller!Q$12)) -> 0 | ... HE7: =IF(Registrering!$B$29="Prosjekter som foregår i UiOs lokaler",IF($B7="Teknisk/adm. bistand/Feltassistent",(W7/12)*Tabeller!V$11,(W7/12)*Tabeller!V$10),IF($B7="Teknisk/adm. bistand/Feltassistent",(W7/12)*Tabeller!V$13,(W7/12)*Tabeller!V$12)) -> 0
B8: Sum ansatte | C8: =SUM(C4:C7) -> 0 | D8: =SUM(D4:D7) -> 0 | E8: =SUM(E4:E7) -> 0 | F8: =SUM(F4:F7) -> 0 | G8: =SUM(G4:G7) -> 0 | K8: =SUM(K4:K7) -> 0 | L8: =SUM(L4:L7) -> 0 | M8: =SUM(M4:M7) -> 0 | N8: =SUM(N4:N7) -> 0 | O8: =SUM(O4:O7) -> 0 | P8: =SUM(P4:P7) -> 0 | Q8: =SUM(Q4:Q7) -> 0 | R8: =SUM(R4:R7) -> 0 | ... W8: =SUM(W4:W7) -> 0 | AR8: =SUM(AR4:AR7) -> 0 | AS8: =SUM(AS4:AS7) -> 0 | AT8: =SUM(AT4:AT7) -> 0 | AU8: =SUM(AU4:AU7) -> 0 | AV8: =SUM(AV4:AV7) -> 0 | AW8: =SUM(AW4:AW7) -> 0 | AX8: =SUM(AX4:AX7) -> 0 | AY8: =SUM(AY4:AY7) -> 0 | ... BD8: =SUM(BD4:BD7) -> 0 | BE8: =SUM(AR8:BD8) -> 0 | BF8: =SUM(BF4:BF7) -> 0 | BG8: =SUM(BG4:BG7) -> 0 | BH8: =SUM(BH4:BH7) -> 0 | BI8: =SUM(BI4:BI7) -> 0 | BJ8: =SUM(BJ4:BJ7) -> 0 | BK8: =SUM(BK4:BK7) -> 0 | BL8: =SUM(BL4:BL7) -> 0 | BM8: =SUM(BM4:BM7) -> 0 | ... BR8: =SUM(BR4:BR7) -> 0 | BS8: =SUM(BF8:BR8) -> 0 | BU8: =SUM(BU4:BU7) -> 0 | BV8: =SUM(BV4:BV7) -> 0 | BW8: =SUM(BW4:BW7) -> 0 | BX8: =SUM(BX4:BX7) -> 0 | BY8: =SUM(BY4:BY7) -> 0 | BZ8: =SUM(BZ4:BZ7) -> 0 | CA8: =SUM(CA4:CA7) -> 0 | CB8: =SUM(CB4:CB7) -> 0 | ... CG8: =SUM(CG4:CG7) -> 0 | CJ8: =SUM(CJ4:CJ7) -> 0 | CK8: =SUM(CK4:CK7) -> 0 | CL8: =SUM(CL4:CL7) -> 0 | CM8: =SUM(CM4:CM7) -> 0 | CN8: =SUM(CN4:CN7) -> 0 | CO8: =SUM(CO4:CO7) -> 0 | CP8: =SUM(CP4:CP7) -> 0 | CQ8: =SUM(CQ4:CQ7) -> 0 | ... CV8: =SUM(CV4:CV7) -> 0 | CY8: =SUM(CY4:CY7) -> 0 | CZ8: =SUM(CZ4:CZ7) -> 0 | DA8: =SUM(DA4:DA7) -> 0 | DB8: =SUM(DB4:DB7) -> 0 | DC8: =SUM(DC4:DC7) -> 0 | DD8: =SUM(DD4:DD7) -> 0 | DE8: =SUM(DE4:DE7) -> 0 | DF8: =SUM(DF4:DF7) -> 0 | ... DK8: =SUM(DK4:DK7) -> 0 | DL8: =SUM(CY8:DK8) -> 0 | DP8: =SUM(DP4:DP7) -> 0 | DQ8: =SUM(DQ4:DQ7) -> 0 | DR8: =SUM(DR4:DR7) -> 0 | DS8: =SUM(DS4:DS7) -> 0 | DT8: =SUM(DT4:DT7) -> 0 | DU8: =SUM(DU4:DU7) -> 0 | DV8: =SUM(DV4:DV7) -> 0 | DW8: =SUM(DW4:DW7) -> 0 | ... EB8: =SUM(EB4:EB7) -> 0 | EC8: =SUM(DP8:EB8) -> 0 | EE8: =DO8 -> 0 | EF8: =SUM(EF4:EF7) -> 0 | EG8: =SUM(EG4:EG7) -> 0 | EH8: =SUM(EH4:EH7) -> 0 | EI8: =SUM(EI4:EI7) -> 0 | EJ8: =SUM(EJ4:EJ7) -> 0 | EK8: =SUM(EK4:EK7) -> 0 | EL8: =SUM(EL4:EL7) -> 0 | EM8: =SUM(EM4:EM7) -> 0 | ... ER8: =SUM(ER4:ER7) -> 0 | ES8: =SUM(EF8:ER8) -> 0 | EU8: =EE8 -> 0 | EV8: =SUM(EV4:EV7) -> 0 | EW8: =SUM(EW4:EW7) -> 0 | EX8: =SUM(EX4:EX7) -> 0 | EY8: =SUM(EY4:EY7) -> 0 | EZ8: =SUM(EZ4:EZ7) -> 0 | FA8: =SUM(FA4:FA7) -> 0 | FB8: =SUM(FB4:FB7) -> 0 | FC8: =SUM(FC4:FC7) -> 0 | ... FH8: =SUM(FH4:FH7) -> 0 | FI8: =SUM(EV8:FH8) -> 0 | FK8: =EU8 -> 0 | FL8: =SUM(FL4:FL7) -> 0 | FM8: =SUM(FM4:FM7) -> 0 | FN8: =SUM(FN4:FN7) -> 0 | FO8: =SUM(FO4:FO7) -> 0 | FP8: =SUM(FP4:FP7) -> 0 | FQ8: =SUM(FQ4:FQ7) -> 0 | FR8: =SUM(FR4:FR7) -> 0 | FS8: =SUM(FS4:FS7) -> 0 | ... FX8: =SUM(FX4:FX7) -> 0 | FY8: =SUM(FL8:FX8) -> 0 | GB8: =FK8 -> 0 | GC8: =SUM(GC4:GC7) -> 0 | GD8: =SUM(GD4:GD7) -> 0 | GE8: =SUM(GE4:GE7) -> 0 | GF8: =SUM(GF4:GF7) -> 0 | GG8: =SUM(GG4:GG7) -> 0 | GH8: =SUM(GH4:GH7) -> 0 | GI8: =SUM(GI4:GI7) -> 0 | GJ8: =SUM(GJ4:GJ7) -> 0 | ... GO8: =SUM(GO4:GO7) -> 0 | GP8: =SUM(GC8:GO8) -> 0 | GS8: =SUM(GS4:GS7) -> 0 | GT8: =SUM(GT4:GT7) -> 0 | GU8: =SUM(GU4:GU7) -> 0 | GV8: =SUM(GV4:GV7) -> 0 | GW8: =SUM(GW4:GW7) -> 0 | GX8: =SUM(GX4:GX7) -> 0 | GY8: =SUM(GY4:GY7) -> 0 | GZ8: =SUM(GZ4:GZ7) -> 0 | ... HE8: =SUM(HE4:HE7) -> 0
K9: ÅRSVERK | EE9: =DO9 -> 0 | EU9: =EE9 -> 0 | FK9: =EU9 -> 0 | GB9: =FK9 -> 0
B10: Eksternt frikjøp | C10: Inntekter | D10: Lønn og sos. kostn. | E10: Overhead | F10: Totalt | G10: Årsv | H10: Finansiør | I10: Årslønn | J10: Navn | K10: =K3 -> 1 | L10: =L3 -> 2 | M10: =M3 -> 3 | N10: =N3 -> 4 | O10: =O3 -> 5 | P10: =P3 -> 6 | Q10: =Q3 -> 7 | R10: =R3 -> 8 | ... W10: =W3 -> 13 | AG10: Bruttolønn | AH10: inkl lønnsv. | AI10: Lønn | AJ10: Feriep | AK10: AGA | AL10: Pensjon | AM10: inkl sos.avg. | AN10: inkl. ind.kost. | AO10: Timesats | AR10: =K10 -> 1 | AS10: =L10 -> 2 | AT10: =M10 -> 3 | AU10: =N10 -> 4 | AV10: =O10 -> 5 | AW10: =P10 -> 6 | AX10: =Q10 -> 7 | AY10: =R10 -> 8 | ... BD10: =W10 -> 13 | BF10: =AR10 -> 1 | BG10: =AS10 -> 2 | BH10: =AT10 -> 3 | BI10: =AU10 -> 4 | BJ10: =AV10 -> 5 | BK10: =AW10 -> 6 | BL10: =AX10 -> 7 | BM10: =AY10 -> 8 | ... BR10: =BD10 -> 13 | BU10: =BF10 -> 1 | BV10: =BG10 -> 2 | BW10: =BH10 -> 3 | BX10: =BI10 -> 4 | BY10: =BJ10 -> 5 | BZ10: =BK10 -> 6 | CA10: =BL10 -> 7 | CB10: =BM10 -> 8 | ... CG10: =BR10 -> 13 | CJ10: =CY10 -> 1 | CK10: =CZ10 -> 2 | CL10: =DA10 -> 3 | CM10: =DB10 -> 4 | CN10: =DC10 -> 5 | CO10: =DD10 -> 6 | CP10: =DE10 -> 7 | CQ10: =DF10 -> 8 | ... CV10: =DK10 -> 13 | CY10: =BU10 -> 1 | CZ10: =BV10 -> 2 | DA10: =BW10 -> 3 | DB10: =BX10 -> 4 | DC10: =BY10 -> 5 | DD10: =BZ10 -> 6 | DE10: =CA10 -> 7 | DF10: =CB10 -> 8 | ... DK10: =CG10 -> 13 | DL10: Totalt | DP10: =BU10 -> 1 | DQ10: =BV10 -> 2 | DR10: =BW10 -> 3 | DS10: =BX10 -> 4 | DT10: =BY10 -> 5 | DU10: =BZ10 -> 6 | DV10: =CA10 -> 7 | DW10: =CB10 -> 8 | ... EB10: =CG10 -> 13 | EC10: =EC3 -> Totalt | EE10: =DO10 -> 0 | EF10: =EF3 -> 1 | EG10: =EG3 -> 2 | EH10: =EH3 -> 3 | EI10: =EI3 -> 4 | EJ10: =EJ3 -> 5 | EK10: =EK3 -> 6 | EL10: =EL3 -> 7 | EM10: =EM3 -> 8 | ... ES10: =ES3 -> Totalt | EU10: =EE10 -> 0 | EV10: =EV3 -> 1 | EW10: =EW3 -> 2 | EX10: =EX3 -> 3 | EY10: =EY3 -> 4 | EZ10: =EZ3 -> 5 | FA10: =FA3 -> 6 | FB10: =FB3 -> 7 | FC10: =FC3 -> 8 | ... FI10: =FI3 -> Totalt | FK10: =EU10 -> 0 | FL10: =FL3 -> 1 | FM10: =FM3 -> 2 | FN10: =FN3 -> 3 | FO10: =FO3 -> 4 | FP10: =FP3 -> 5 | FQ10: =FQ3 -> 6 | FR10: =FR3 -> 7 | FS10: =FS3 -> 8 | ... FY10: =FY3 -> Totalt | GB10: =FK10 -> 0 | GC10: =GC3 -> 1 | GD10: =GD3 -> 2 | GE10: =GE3 -> 3 | GF10: =GF3 -> 4 | GG10: =GG3 -> 5 | GH10: =GH3 -> 6 | GI10: =GI3 -> 7 | GJ10: =GJ3 -> 8 | ... GP10: =GP3 -> Totalt | GS10: =AR10 -> 1 | GT10: =AS10 -> 2 | GU10: =AT10 -> 3 | GV10: =AU10 -> 4 | GW10: =AV10 -> 5 | GX10: =AW10 -> 6 | GY10: =AX10 -> 7 | GZ10: =AY10 -> 8 | ... HE10: =BD10 -> 13
